BEGIN:VCALENDAR
VERSION:2.0
METHOD:PUBLISH
CALSCALE:GREGORIAN
PRODID:-//YourMembership.com//NONSGML v1.0//EN
BEGIN:VEVENT
DTSTART:20210909T190000Z
DTEND:20210909T200000Z
DTSTAMP:20260422T125628Z
SUMMARY:Webinar I: Acceleration of Prevention and Population Health Education
DESCRIPTION:DATE/TIME: 9/9/2021 2:00 PM GMT -5:00\n\nWHERE: Webinar\n \nUnited States\n\nExport to Calendar\n Access to Webinar I Recording \nThis webinar will feature two projects funded by the APTR-CDC Acceleration of Prevention and Population Health Education grant program. This program seeks to expand and support education by disseminating effective methods of integrating complex topics into existing courses and curricula. The topic areas of this first grant cycle were:\nCommunity resilience and preparednessHealth equity and social justiceAccess to careThe products and resources developed through these projects will be posted on the APTR website before the webinars for broad public access and for tailored use by public health and health professions educators.\nLearning ObjectivesWebinar participants will be able to:\nDescribe two teaching resources developed by APTR member faculty that can be used by other educators to teach the topics of community resilience and preparedness\, health equity and social justice\, and access to care.Explain why the teaching tools were implemented at the grantee's institution and with which populations of students.Examine instructor guides\, facilitator resources\, recommended readings and other resources to implement the training at other institutions.\nPresentations\nDeveloping and Piloting a Scalable\, Online\, Interprofessional Health Equity and Social Justice Course\n \n \n \n \n Elizabeth Ann Hall-Lipsy\, JD\, MPH\nAssistant Professor\nDepartment of Pharmacy Practice and Science\nThe University of Arizona College of Pharmacy\nTucson\, Arizona \n \n \n \n \n \n \n Rebekah M. Fettkether\, PharmD\, MPH\nAssistant Dean for Educational Outcomes & Associate Professor\n \n Pacific University School of Pharmacy \nHillsboro\, Oregon\n \n \n \n \nThe purpose of this project was to develop\, pilot test and evaluate the opportunities and challenges presented by a scalable\, online (live and asynchronous)\, interprofessional course addressing health equity\, social justice\, and access to care concepts. \n The course activities and contents will be available for faculty on the APTR website for use at their universities\, and include an instructor guide\, a course map\, a student assessment survey\, and the following 8 modules:\n Social Determinants of Health\n Access to Care\n Racism and Healthcare\n Mental Health and Stigma\n Substance Abuse and Adverse Childhood Events\n LGBTQ and Inclusive Healthcare\n Environmental Health and Justice\n Public Health Policy\nSimulating an Infectious Disease Outbreak to Improve Interprofessional Collaboration\, Health Equity\, and Community Resilience\n \n \n \n Sabrina M. Neeley\, PhD\, MPH\nAssociate Dean for Clinical\, Global & Experiential Learning\nSchool of Education and Health Sciences\nUniversity of Dayton\nDayton\, Ohio \n \n \n \n \n \n \n Zachary Jenkins\, PharmD\, BCPS\nAssociate Professor of Pharmacy Practice\nCedarville University\nCedarville\, Ohio\n \n \n \n \n \nA team of faculty from schools and programs in public health\, medicine\, pharmacy\, and clinical mental health counseling from three universities in the same geographic area set out to develop an educational activity that would meet interprofessional education\n (IPE) accreditation competencies for health profession students from five disciplines (public health\, medicine\, pharmacy\, clinical mental health counseling and nursing).\nOutbreak Experience is an educational activity that places public health and health professions students in the role of interacting as a member of a multidisciplinary unified response team\, requiring that they engage in effective teamwork as they\n collaborate in decision-making and communication in response to the rising threat of an infectious disease outbreak. The outbreak takes place in the Miami Valley region of Ohio\, with the City of Dayton/Montgomery County at the center. The scenario\n in this activity is fictional but was informed by information and events from actual influenza outbreaks and Covid-19.\nThe activity can be implemented via face-to-face\, synchronous remote using video conferencing software\, or asynchronously. Curriculum materials will be available online\, including an Instructor Guide\, Facilitator Guide\, facilitator training materials\,\n background and supplementary information\, student preparation materials\, a competency assessment tool\, online forums and a blog\, and additional media content for the activity.
LOCATION:Webinar
UID:1CD0A436-8110-434A-A99B-CB26350DD5A8
END:VEVENT
END:VCALENDAR
